BEGIN:VCALENDAR
VERSION:2.0
PRODID:-//abciowa.org//NONSGML kigkonsult.se iCalcreator 2.30.10//
CALSCALE:GREGORIAN
METHOD:PUBLISH
UID:bc883795-256c-43fa-8496-775c051e84d4
X-WR-CALDESC:<b> Part 1 -</b> June 10 (8 AM - 2:30 PM)\n<b> Part 2 -</b> Ju
 ne 17 (8 AM - 2:30 PM)\n<i>Must attend BOTH sessions to complete course.</
 i>\n\nThis course has been approved by the Iowa Electrical Examining Board
  (IEEB) for 12 hours of Code Continuing Education Hours (CEH).
X-WR-RELCALID:056fe504f808ca7bf47d80a7f2cb6432
X-WR-TIMEZONE:America/Chicago
BEGIN:VTIMEZONE
TZID:America/Chicago
BEGIN:STANDARD
TZNAME:CST
DTSTART:20221106T020000
TZOFFSETFROM:-0500
TZOFFSETTO:-0600
RDATE:20231105T020000
RDATE:20241103T020000
END:STANDARD
BEGIN:DAYLIGHT
TZNAME:CDT
DTSTART:20230312T020000
TZOFFSETFROM:-0600
TZOFFSETTO:-0500
RDATE:20240310T020000
END:DAYLIGHT
END:VTIMEZONE
BEGIN:VEVENT
UID:110d4392-5819-4d33-bb7b-76dea90660d2
DTSTAMP:20260425T031529Z
DESCRIPTION:<b> Part 1 -</b> June 10 (8 AM - 2:30 PM)\n<b> Part 2 -</b> Jun
 e 17 (8 AM - 2:30 PM)\n<i>Must attend BOTH sessions to complete course.</i
 >\n\nThis course has been approved by the Iowa Electrical Examining Board 
 (IEEB) for 12 hours of Code Continuing Education Hours (CEH).
DTSTART;TZID=America/Chicago:20230610T080000
DTEND;TZID=America/Chicago:20230610T143000
LOCATION:ABC of Iowa - Davenport\, 5000 Tremont Avenue Building 100\, Suite
  100\, Davenport\, IA 52807 US
SUMMARY:Electrical Exam Prep (Davenport)
END:VEVENT
END:VCALENDAR
