BEGIN:VCALENDAR
VERSION:2.0
PRODID:-//abciowa.org//NONSGML kigkonsult.se iCalcreator 2.30.10//
CALSCALE:GREGORIAN
METHOD:PUBLISH
UID:3cd1521b-e0a6-41c5-8757-92b8f4e3187f
X-WR-CALDESC:<b>NOTE:</b> ABC of Iowa PAC can only accept donations from pe
 rsonal accounts. (Corporate contributions are prohibited by state law.)
X-WR-RELCALID:c281c6b4a7ca6b67e3aadcb2fe53e879
X-WR-TIMEZONE:America/Chicago
BEGIN:VTIMEZONE
TZID:America/Chicago
BEGIN:STANDARD
TZNAME:CST
DTSTART:20231105T020000
TZOFFSETFROM:-0500
TZOFFSETTO:-0600
RDATE:20241103T020000
RDATE:20251102T020000
END:STANDARD
BEGIN:DAYLIGHT
TZNAME:CDT
DTSTART:20240310T020000
TZOFFSETFROM:-0600
TZOFFSETTO:-0500
RDATE:20250309T020000
RDATE:20260308T020000
END:DAYLIGHT
END:VTIMEZONE
BEGIN:VEVENT
UID:db41bcc6-2383-46ed-9c92-53b4c8fda7f0
DTSTAMP:20260425T205117Z
DESCRIPTION:<b>NOTE:</b> ABC of Iowa PAC can only accept donations from per
 sonal accounts. (Corporate contributions are prohibited by state law.)
DTSTART;TZID=America/Chicago:20240926T120000
DTEND;TZID=America/Chicago:20240926T163000
LOCATION:Black Oak Clays\, 1243 180th\, Pella\, IA 50219 US
SUMMARY:ABC of Iowa PAC Clay Shoot - Central Iowa
END:VEVENT
END:VCALENDAR
