BEGIN:VCALENDAR
VERSION:2.0
PRODID:-//abciowa.org//NONSGML kigkonsult.se iCalcreator 2.30.10//
CALSCALE:GREGORIAN
METHOD:PUBLISH
UID:fbec14ff-3b62-40a8-8967-cbd85e8b6f67
X-WR-CALDESC:As the NFPA 70E standard gains more traction across all indust
 ries\, it leaves employers without the proper expertise asking the questio
 n\, “Are we safe?” Electrical hazards are one of OSHA’s “Fatal Four\,” and
  without qualified personnel on your jobsites\, it will remain there for t
 he foreseeable future. \n\nFor this Lunch & Learn\, we will give employers
  a quick introduction to NFPA 70E\, the standard in the workplace for haza
 rd assessment and electrical safety. In addition\, we will discuss simple\
 , practical ways to protect your employees\, create your own qualified per
 sonnel\, and make sure your employees make it home each night to those cou
 nting on them the most. SAFETY IS A VALUE THAT IS NEVER COMPROMISED!
X-WR-RELCALID:43f9dfa8729b580c2e1b6766da5fc97c
X-WR-TIMEZONE:America/Chicago
BEGIN:VTIMEZONE
TZID:America/Chicago
BEGIN:STANDARD
TZNAME:CST
DTSTART:20231105T020000
TZOFFSETFROM:-0500
TZOFFSETTO:-0600
RDATE:20241103T020000
RDATE:20251102T020000
END:STANDARD
BEGIN:DAYLIGHT
TZNAME:CDT
DTSTART:20240310T020000
TZOFFSETFROM:-0600
TZOFFSETTO:-0500
RDATE:20250309T020000
RDATE:20260308T020000
END:DAYLIGHT
END:VTIMEZONE
BEGIN:VEVENT
UID:7b68dca5-b7cb-4535-932e-1f7f74cc0b5a
DTSTAMP:20260420T153148Z
DESCRIPTION:As the NFPA 70E standard gains more traction across all industr
 ies\, it leaves employers without the proper expertise asking the question
 \, “Are we safe?” Electrical hazards are one of OSHA’s “Fatal Four\,” and 
 without qualified personnel on your jobsites\, it will remain there for th
 e foreseeable future. \n\nFor this Lunch & Learn\, we will give employers 
 a quick introduction to NFPA 70E\, the standard in the workplace for hazar
 d assessment and electrical safety. In addition\, we will discuss simple\,
  practical ways to protect your employees\, create your own qualified pers
 onnel\, and make sure your employees make it home each night to those coun
 ting on them the most. SAFETY IS A VALUE THAT IS NEVER COMPROMISED!
DTSTART;TZID=America/Chicago:20241008T113000
DTEND;TZID=America/Chicago:20241008T130000
LOCATION:Van Meter Inc.\, 850 32nd Ave SW\, Cedar Rapids\, IA 52404 US
SUMMARY:Cedar Rapids - Electrical Safety in Construction: Lunch & Learn
END:VEVENT
END:VCALENDAR
