BEGIN:VCALENDAR
VERSION:2.0
PRODID:-//abciowa.org//NONSGML kigkonsult.se iCalcreator 2.30.10//
CALSCALE:GREGORIAN
METHOD:PUBLISH
UID:34551863-3403-459a-b79f-cadfdb6aaf36
X-WR-CALDESC:<b>Schedule of Events</b>\n5:00 p.m.  Doors Open\n5:30 p.m.  A
 nnual Meeting + STEP Awards\n5:50 p.m.  Holiday Cheer\n6:40 p.m.  Door Pri
 ze Drawings + 50th Anniversary Cruise Giveaway
X-WR-RELCALID:bc793e86e1b504c1d6ad0a2587cd3a4e
X-WR-TIMEZONE:America/Chicago
BEGIN:VTIMEZONE
TZID:America/Chicago
BEGIN:STANDARD
TZNAME:CST
DTSTART:20241103T020000
TZOFFSETFROM:-0500
TZOFFSETTO:-0600
RDATE:20251102T020000
END:STANDARD
BEGIN:DAYLIGHT
TZNAME:CDT
DTSTART:20240310T020000
TZOFFSETFROM:-0600
TZOFFSETTO:-0500
RDATE:20250309T020000
RDATE:20260308T020000
END:DAYLIGHT
END:VTIMEZONE
BEGIN:VEVENT
UID:611f8b75-8e31-40f8-b87d-66d2e65789e1
DTSTAMP:20260420T011951Z
DESCRIPTION:<b>Schedule of Events</b>\n5:00 p.m.  Doors Open\n5:30 p.m.  An
 nual Meeting + STEP Awards\n5:50 p.m.  Holiday Cheer\n6:40 p.m.  Door Priz
 e Drawings + 50th Anniversary Cruise Giveaway
DTSTART;TZID=America/Chicago:20241218T170000
DTEND;TZID=America/Chicago:20241218T190000
LOCATION:Sheraton Hotel\, 1800 50th St\, West Des Moines\, IA 50266 US
SUMMARY:Holiday Party & 2024 Annual Meeting
END:VEVENT
END:VCALENDAR
