BEGIN:VCALENDAR
VERSION:2.0
PRODID:-//abciowa.org//NONSGML kigkonsult.se iCalcreator 2.30.10//
CALSCALE:GREGORIAN
METHOD:PUBLISH
UID:c9bdfbfc-69e3-42b4-805f-22bbe1a0220c
X-WR-CALDESC:<b>THIS COURSE IS SOLD OUT.</b>\n\n<b>All students should brin
 g:</b>\n• 2023 NEC book\n• Pen/pencil\n• Notepad\n• Highlighter\n• Calcula
 tor\n• IEEB license (if applicable)
X-WR-RELCALID:bda664693e9e661734dc5ba89634dc54
X-WR-TIMEZONE:America/Chicago
BEGIN:VTIMEZONE
TZID:America/Chicago
BEGIN:STANDARD
TZNAME:CST
DTSTART:20241103T020000
TZOFFSETFROM:-0500
TZOFFSETTO:-0600
RDATE:20251102T020000
END:STANDARD
BEGIN:DAYLIGHT
TZNAME:CDT
DTSTART:20240310T020000
TZOFFSETFROM:-0600
TZOFFSETTO:-0500
RDATE:20250309T020000
RDATE:20260308T020000
END:DAYLIGHT
END:VTIMEZONE
BEGIN:VEVENT
UID:bb464237-54d5-415a-ab4e-5cd273b08615
DTSTAMP:20260423T134315Z
DESCRIPTION:<b>THIS COURSE IS SOLD OUT.</b>\n\n<b>All students should bring
 :</b>\n• 2023 NEC book\n• Pen/pencil\n• Notepad\n• Highlighter\n• Calculat
 or\n• IEEB license (if applicable)
DTSTART;TZID=America/Chicago:20250221T080000
DTEND;TZID=America/Chicago:20250221T143000
LOCATION:ABC of Iowa - Grimes\, 3100 SE Enterprise Drive\, Grimes\, IA 5011
 1 US
SUMMARY:2023 NEC Update (6 Hour Course) - Grimes
END:VEVENT
END:VCALENDAR
