BEGIN:VCALENDAR
VERSION:2.0
PRODID:-//abciowa.org//NONSGML kigkonsult.se iCalcreator 2.30.10//
CALSCALE:GREGORIAN
METHOD:PUBLISH
UID:9d041815-9e1e-4e31-ad38-6b7c61511b21
X-WR-CALDESC:All classes are approved by the Iowa Plumbing and Mechanical S
 ystems Board (IPMSB) for continuing education credits toward plumbing and 
 mechanical license renewal. \n\n<b> Plumbing Day:</b>  Friday\, April 24th
  (8 a.m. - 4:30 p.m.)\n<b> Mechanical Day:</b>  Saturday\, April 25th (8 a
 .m. - 4:30 p.m.)
X-WR-RELCALID:dcb290c56c6713dcbe6ae51fa46a5dff
X-WR-TIMEZONE:America/Chicago
BEGIN:VTIMEZONE
TZID:America/Chicago
BEGIN:STANDARD
TZNAME:CST
DTSTART:20251102T020000
TZOFFSETFROM:-0500
TZOFFSETTO:-0600
RDATE:20261101T020000
END:STANDARD
BEGIN:DAYLIGHT
TZNAME:CDT
DTSTART:20260308T020000
TZOFFSETFROM:-0600
TZOFFSETTO:-0500
RDATE:20270314T020000
END:DAYLIGHT
END:VTIMEZONE
BEGIN:VEVENT
UID:bc0f5fd1-462a-402d-bcb4-23fa26de0455
DTSTAMP:20260422T064522Z
DESCRIPTION:All classes are approved by the Iowa Plumbing and Mechanical Sy
 stems Board (IPMSB) for continuing education credits toward plumbing and m
 echanical license renewal. \n\n<b> Plumbing Day:</b>  Friday\, April 24th 
 (8 a.m. - 4:30 p.m.)\n<b> Mechanical Day:</b>  Saturday\, April 25th (8 a.
 m. - 4:30 p.m.)
DTSTART;TZID=America/Chicago:20260424T080000
DTEND;TZID=America/Chicago:20260425T163000
LOCATION:ABC of Iowa - Grimes\, 3100 SE Enterprise Dr.\, Grimes\, IA 50111 
 US
SUMMARY:Plumbing/Mechanical Weekend (Grimes) (April)
END:VEVENT
END:VCALENDAR
