BEGIN:VCALENDAR
VERSION:2.0
PRODID:-//abciowa.org//NONSGML kigkonsult.se iCalcreator 2.30.10//
CALSCALE:GREGORIAN
METHOD:PUBLISH
UID:a61bcc5d-ee0c-481d-93ac-55bd6da18358
X-WR-CALDESC:All classes are approved by the Iowa Plumbing and Mechanical S
 ystems Board (IPMSB) for continuing education credits toward plumbing and 
 mechanical license renewal. \n\n<b> Mechanical Day:</b>  Friday\, May 8th 
 (8 a.m. - 4:30 p.m.)\n<b> Plumbing Day:</b>  Saturday\, May 9th (8 a.m. - 
 4:30 p.m.)\n
X-WR-RELCALID:b215f694fab4c91f1d442d08e435a6ec
X-WR-TIMEZONE:America/Chicago
BEGIN:VTIMEZONE
TZID:America/Chicago
BEGIN:STANDARD
TZNAME:CST
DTSTART:20251102T020000
TZOFFSETFROM:-0500
TZOFFSETTO:-0600
RDATE:20261101T020000
RDATE:20271107T020000
END:STANDARD
BEGIN:DAYLIGHT
TZNAME:CDT
DTSTART:20260308T020000
TZOFFSETFROM:-0600
TZOFFSETTO:-0500
RDATE:20270314T020000
END:DAYLIGHT
END:VTIMEZONE
BEGIN:VEVENT
UID:9a441f30-956a-4672-8624-1ea05ad9a404
DTSTAMP:20260422T064800Z
DESCRIPTION:All classes are approved by the Iowa Plumbing and Mechanical Sy
 stems Board (IPMSB) for continuing education credits toward plumbing and m
 echanical license renewal. \n\n<b> Mechanical Day:</b>  Friday\, May 8th (
 8 a.m. - 4:30 p.m.)\n<b> Plumbing Day:</b>  Saturday\, May 9th (8 a.m. - 4
 :30 p.m.)\n
DTSTART;TZID=America/Chicago:20260508T080000
DTEND;TZID=America/Chicago:20260509T163000
LOCATION:Quality Inn & Suites\, 2601 East 13th St.\, Ames\, IA 50010 US
SUMMARY:Mechanical/Plumbing Weekend (Ames) (May)
END:VEVENT
END:VCALENDAR
