BEGIN:VCALENDAR
VERSION:2.0
PRODID:-//abciowa.org//NONSGML kigkonsult.se iCalcreator 2.30.10//
CALSCALE:GREGORIAN
METHOD:PUBLISH
UID:d50af481-bba9-411f-9809-e1839ca9d7f4
X-WR-CALDESC:<b>Day 1 -</b> May 14 (8 AM - 4:30 PM)\n<b>Day 2 -</b> May 15 
 (8 AM - Noon)\n<i>Must attend BOTH sessions to complete course.</i>
X-WR-RELCALID:6c74fea42c4d135fbc5c4fb66d048025
X-WR-TIMEZONE:America/Chicago
BEGIN:VTIMEZONE
TZID:America/Chicago
BEGIN:STANDARD
TZNAME:CST
DTSTART:20251102T020000
TZOFFSETFROM:-0500
TZOFFSETTO:-0600
RDATE:20261101T020000
RDATE:20271107T020000
END:STANDARD
BEGIN:DAYLIGHT
TZNAME:CDT
DTSTART:20260308T020000
TZOFFSETFROM:-0600
TZOFFSETTO:-0500
RDATE:20270314T020000
END:DAYLIGHT
END:VTIMEZONE
BEGIN:VEVENT
UID:dcaf8747-f2d1-4a74-ad6b-550bd5e10688
DTSTAMP:20260422T233211Z
DESCRIPTION:<b>Day 1 -</b> May 14 (8 AM - 4:30 PM)\n<b>Day 2 -</b> May 15 (
 8 AM - Noon)\n<i>Must attend BOTH sessions to complete course.</i>
DTSTART;TZID=America/Chicago:20260514T080000
DTEND;TZID=America/Chicago:20260515T120000
LOCATION:3100 SE Enterprise Dr.\, Grimes\, IA 50111 US
SUMMARY:OSHA 10-Hour (Grimes)
END:VEVENT
END:VCALENDAR
