BEGIN:VCALENDAR
VERSION:2.0
PRODID:-//abciowa.org//NONSGML kigkonsult.se iCalcreator 2.30.10//
CALSCALE:GREGORIAN
METHOD:PUBLISH
UID:4ea9c6eb-b038-4115-bf92-2172048f5f9a
X-WR-CALDESC:Registration: 8:30 – 9:30 AM\nShotgun Start: 10:00 AM
X-WR-RELCALID:8f33c1e9194c34f11a0a2cca1f8fe1f0
X-WR-TIMEZONE:America/Chicago
BEGIN:VTIMEZONE
TZID:America/Chicago
BEGIN:STANDARD
TZNAME:CST
DTSTART:20251102T020000
TZOFFSETFROM:-0500
TZOFFSETTO:-0600
RDATE:20261101T020000
RDATE:20271107T020000
END:STANDARD
BEGIN:DAYLIGHT
TZNAME:CDT
DTSTART:20260308T020000
TZOFFSETFROM:-0600
TZOFFSETTO:-0500
RDATE:20270314T020000
END:DAYLIGHT
END:VTIMEZONE
BEGIN:VEVENT
UID:62221165-bd9d-4eed-9c49-1f513db7aee7
DTSTAMP:20260422T025844Z
DESCRIPTION:Registration: 8:30 – 9:30 AM\nShotgun Start: 10:00 AM
DTSTART;TZID=America/Chicago:20260520T100000
DTEND;TZID=America/Chicago:20260520T163000
LOCATION:Blue Top Ridge Golf Course\, 3184 Highway 22\, Riverside\, IA 5232
 7 US
SUMMARY:Spring Golf Classic
END:VEVENT
END:VCALENDAR
