BEGIN:VCALENDAR
VERSION:2.0
PRODID:-//abciowa.org//NONSGML kigkonsult.se iCalcreator 2.30.10//
CALSCALE:GREGORIAN
METHOD:PUBLISH
UID:75282dd8-f674-4402-a2d6-db1590218044
X-WR-CALDESC:
X-WR-RELCALID:ab8d9aa96643ffa80f5290f01dcd60d2
X-WR-TIMEZONE:America/Chicago
BEGIN:VTIMEZONE
TZID:America/Chicago
BEGIN:STANDARD
TZNAME:CST
DTSTART:20251102T020000
TZOFFSETFROM:-0500
TZOFFSETTO:-0600
RDATE:20261101T020000
RDATE:20271107T020000
END:STANDARD
BEGIN:DAYLIGHT
TZNAME:CDT
DTSTART:20260308T020000
TZOFFSETFROM:-0600
TZOFFSETTO:-0500
RDATE:20270314T020000
END:DAYLIGHT
END:VTIMEZONE
BEGIN:VEVENT
UID:450da1ce-a6ef-42d3-a36e-2517535a9757
DTSTAMP:20260421T095221Z
DESCRIPTION:
DTSTART;TZID=America/Chicago:20260529T180000
DTEND;TZID=America/Chicago:20260529T220000
LOCATION:Prairie Meadows Event Center\, 1 Prairie Meadows Dr\, Altoona\, IA
  50009 US
SUMMARY:Apprenticeship Graduation 2026
END:VEVENT
END:VCALENDAR
