BEGIN:VCALENDAR
VERSION:2.0
PRODID:-//abciowa.org//NONSGML kigkonsult.se iCalcreator 2.30.10//
CALSCALE:GREGORIAN
METHOD:PUBLISH
UID:fa0149ea-cb83-4bd1-ba72-88f7894dbf18
X-WR-CALDESC:All classes are approved by the Iowa Plumbing and Mechanical S
 ystems Board (IPMSB) for continuing education credits toward plumbing and 
 mechanical license renewal. \n\n<b> Mechanical Day:</b>  Friday\, July 10t
 h (8 a.m. - 4:30 p.m.)\n<b> Plumbing Day:</b>  Saturday\, July 11th (8 a.m
 . - 4:30 p.m.)\n
X-WR-RELCALID:8e2977bfa1e0f3cbfa880332da25d5c6
X-WR-TIMEZONE:America/Chicago
BEGIN:VTIMEZONE
TZID:America/Chicago
BEGIN:STANDARD
TZNAME:CST
DTSTART:20251102T020000
TZOFFSETFROM:-0500
TZOFFSETTO:-0600
RDATE:20261101T020000
RDATE:20271107T020000
END:STANDARD
BEGIN:DAYLIGHT
TZNAME:CDT
DTSTART:20260308T020000
TZOFFSETFROM:-0600
TZOFFSETTO:-0500
RDATE:20270314T020000
END:DAYLIGHT
END:VTIMEZONE
BEGIN:VEVENT
UID:219e4d0b-2b7f-4881-91ee-17b5c532d0c5
DTSTAMP:20260422T064558Z
DESCRIPTION:All classes are approved by the Iowa Plumbing and Mechanical Sy
 stems Board (IPMSB) for continuing education credits toward plumbing and m
 echanical license renewal. \n\n<b> Mechanical Day:</b>  Friday\, July 10th
  (8 a.m. - 4:30 p.m.)\n<b> Plumbing Day:</b>  Saturday\, July 11th (8 a.m.
  - 4:30 p.m.)\n
DTSTART;TZID=America/Chicago:20260710T080000
DTEND;TZID=America/Chicago:20260711T163000
LOCATION:ABC of Iowa - Grimes\, 3100 SE Enterprise Dr.\, Grimes\, IA 50111 
 US
SUMMARY:Mechanical/Plumbing Weekend (Grimes) (July)
END:VEVENT
END:VCALENDAR
