BEGIN:VCALENDAR
VERSION:2.0
PRODID:-//abciowa.org//NONSGML kigkonsult.se iCalcreator 2.30.10//
CALSCALE:GREGORIAN
METHOD:PUBLISH
UID:35d0a61e-9d3f-43a1-ae26-3360b6208e32
X-WR-CALDESC:<b>PAYMENT REQUIREMENTS:</b>\n- No refunds for cancellations w
 ithin a week of the event.\n- ABC of Iowa PAC can only accept donations fr
 om personal or LLC accounts. LLC donations are limited to $1\,000 or below
 .\n- Corporate contributions are prohibited by state law.
X-WR-RELCALID:b5216da94ce967f964fe391367a321c6
X-WR-TIMEZONE:America/Chicago
BEGIN:VTIMEZONE
TZID:America/Chicago
BEGIN:STANDARD
TZNAME:CST
DTSTART:20251102T020000
TZOFFSETFROM:-0500
TZOFFSETTO:-0600
RDATE:20261101T020000
RDATE:20271107T020000
END:STANDARD
BEGIN:DAYLIGHT
TZNAME:CDT
DTSTART:20260308T020000
TZOFFSETFROM:-0600
TZOFFSETTO:-0500
RDATE:20270314T020000
END:DAYLIGHT
END:VTIMEZONE
BEGIN:VEVENT
UID:13a06b15-7408-4e15-8763-2b07eb6d9080
DTSTAMP:20260421T092553Z
DESCRIPTION:<b>PAYMENT REQUIREMENTS:</b>\n- No refunds for cancellations wi
 thin a week of the event.\n- ABC of Iowa PAC can only accept donations fro
 m personal or LLC accounts. LLC donations are limited to $1\,000 or below.
 \n- Corporate contributions are prohibited by state law.
DTSTART;TZID=America/Chicago:20260713T073000
DTEND;TZID=America/Chicago:20260713T143000
LOCATION:Wakonda Golf Event\, 3915 Fleur Dr.\, Des Moines\, IA 50321 US
SUMMARY:PAC Wakonda Golf Event
END:VEVENT
END:VCALENDAR
